BEGIN:VCALENDAR
VERSION:2.0
PRODID:-//Pro Bono Program - ECPv5.16.4//NONSGML v1.0//EN
CALSCALE:GREGORIAN
METHOD:PUBLISH
X-WR-CALNAME:Pro Bono Program
X-ORIGINAL-URL:https://uofsclawprobono.azurewebsites.net
X-WR-CALDESC:Events for Pro Bono Program
BEGIN:VTIMEZONE
TZID:America/New_York
BEGIN:DAYLIGHT
TZOFFSETFROM:-0500
TZOFFSETTO:-0400
TZNAME:EDT
DTSTART:20190310T070000
END:DAYLIGHT
BEGIN:STANDARD
TZOFFSETFROM:-0400
TZOFFSETTO:-0500
TZNAME:EST
DTSTART:20191103T060000
END:STANDARD
END:VTIMEZONE
BEGIN:VEVENT
DTSTART;TZID=America/New_York:20190213T080000
DTEND;TZID=America/New_York:20190213T170000
DTSTAMP:20260422T070102
CREATED:20190213T165236Z
LAST-MODIFIED:20190213T165236Z
UID:1135-1550044800-1550077200@uofsclawprobono.azurewebsites.net
SUMMARY:Calling all Chefs! It's Chili Time!
DESCRIPTION:Monday\, March 4th the Law School will hold the Annual Chili Cookoff of CASA! This fundraiser to help Richland County CASA support the many vulnerable children in need only works if law school chefs step up\, stir\, sweat and serve!  CALS and Pro Bono have teamed up for a number of years on this event!   \nWe need student organizations\, peer mentor groups\, sections\, classes\, individuals\, group of friends to cook and serve a crockpot of chili during the lunch hour on March 4th in the Perrin Lobby.   You will be judged!  We are looking for a Famously Hot\, Most Innovative Ingredient and Best Overall Chili! \nHow do we make money?  You donate your chili and serving time\, everyone else pays $5 for a cup\, spoon and chance to taste as much chili as they can eat! Rolaids not included! \nHow do you sign up? Easy https://www.signupgenius.com/go/20f0445a8a82ea1fc1-chili2 \ngot questions? Ask Pam Robinspd@law.sc.edu  
URL:https://uofsclawprobono.azurewebsites.net/event/calling-all-chefs-its-chili-time/
LOCATION:Perrin Lobby
CATEGORIES:Richland County CASA
END:VEVENT
END:VCALENDAR