BEGIN:VCALENDAR
VERSION:2.0
PRODID:-//Pro Bono Program - ECPv5.16.4//NONSGML v1.0//EN
CALSCALE:GREGORIAN
METHOD:PUBLISH
X-WR-CALNAME:Pro Bono Program
X-ORIGINAL-URL:https://uofsclawprobono.azurewebsites.net
X-WR-CALDESC:Events for Pro Bono Program
BEGIN:VTIMEZONE
TZID:America/New_York
BEGIN:DAYLIGHT
TZOFFSETFROM:-0500
TZOFFSETTO:-0400
TZNAME:EDT
DTSTART:20210314T070000
END:DAYLIGHT
BEGIN:STANDARD
TZOFFSETFROM:-0400
TZOFFSETTO:-0500
TZNAME:EST
DTSTART:20211107T060000
END:STANDARD
END:VTIMEZONE
BEGIN:VEVENT
DTSTART;TZID=America/New_York:20211112T150000
DTEND;TZID=America/New_York:20211112T170000
DTSTAMP:20260421T224337
CREATED:20210915T132618Z
LAST-MODIFIED:20210915T132618Z
UID:4257-1636729200-1636736400@uofsclawprobono.azurewebsites.net
SUMMARY:Friday Blitz
DESCRIPTION:The Friday Blitz is a joint project with the SC Bar Pro Bono Program where teams of law students and lawyers draft and send responses to questions posted by the public to an online forum
URL:https://uofsclawprobono.azurewebsites.net/event/friday-blitz-12/
LOCATION:Room 136 Law School\, 1525 Senate Street\, Columbia\, 29208\, United States
CATEGORIES:Friday Blitz
END:VEVENT
END:VCALENDAR