BEGIN:VCALENDAR
VERSION:2.0
PRODID:-//Pro Bono Program - ECPv5.16.4//NONSGML v1.0//EN
CALSCALE:GREGORIAN
METHOD:PUBLISH
X-WR-CALNAME:Pro Bono Program
X-ORIGINAL-URL:https://uofsclawprobono.azurewebsites.net
X-WR-CALDESC:Events for Pro Bono Program
BEGIN:VTIMEZONE
TZID:America/New_York
BEGIN:DAYLIGHT
TZOFFSETFROM:-0500
TZOFFSETTO:-0400
TZNAME:EDT
DTSTART:20200308T070000
END:DAYLIGHT
BEGIN:STANDARD
TZOFFSETFROM:-0400
TZOFFSETTO:-0500
TZNAME:EST
DTSTART:20201101T060000
END:STANDARD
END:VTIMEZONE
BEGIN:VEVENT
DTSTART;TZID=America/New_York:20200214T143000
DTEND;TZID=America/New_York:20200214T173000
DTSTAMP:20260421T205320
CREATED:20200214T175149Z
LAST-MODIFIED:20191119T133642Z
UID:1062-1581690600-1581701400@uofsclawprobono.azurewebsites.net
SUMMARY:Friday Blitz
DESCRIPTION:The Friday Blitz is a team effort!  Teams of pro bono lawyers and law students gather\, usually at the SC Bar\, and take on the task of responding to questions posted by the public to the online forum\, www.SC.FreeLegalAnswers.org. \nWelcome 1L’s \nVolunteers simply need to bring a laptop \nSign up to volunteer with Pam Robinson\, robinspd@law.sc.edu \nor go to our Sign Up Genius site https://www.signupgenius.com/go/20f0445a8a82ea1fc1-friday
URL:https://uofsclawprobono.azurewebsites.net/event/friday-blitz-9/
LOCATION:SC Bar\, 950 Park Street\, Columbia\, 29201\, United States
CATEGORIES:Events,Friday Blitz
END:VEVENT
END:VCALENDAR