BEGIN:VCALENDAR
VERSION:2.0
PRODID:-//Pro Bono Program - ECPv5.16.4//NONSGML v1.0//EN
CALSCALE:GREGORIAN
METHOD:PUBLISH
X-WR-CALNAME:Pro Bono Program
X-ORIGINAL-URL:https://uofsclawprobono.azurewebsites.net
X-WR-CALDESC:Events for Pro Bono Program
BEGIN:VTIMEZONE
TZID:America/New_York
BEGIN:DAYLIGHT
TZOFFSETFROM:-0500
TZOFFSETTO:-0400
TZNAME:EDT
DTSTART:20190310T070000
END:DAYLIGHT
BEGIN:STANDARD
TZOFFSETFROM:-0400
TZOFFSETTO:-0500
TZNAME:EST
DTSTART:20191103T060000
END:STANDARD
END:VTIMEZONE
BEGIN:VEVENT
DTSTART;TZID=America/New_York:20190122T180000
DTEND;TZID=America/New_York:20190122T203000
DTSTAMP:20260422T015924
CREATED:20181114T152957Z
LAST-MODIFIED:20181114T153549Z
UID:1035-1548180000-1548189000@uofsclawprobono.azurewebsites.net
SUMMARY:Guardian ad Litem/CASA training
DESCRIPTION:The best way to advocate for abused and neglected children is to become a volunteer guardian ad litem! Richland County CASA ( Court Appointed Special Advocates) is our local organization that manages all of the volunteer GAL’s in Richland County. \nTo become a GAL you must complete an application and other forms\, attend a hearing and participate in a series of trainings. \nThe good news is that we have made the training easy for law students.  It is in our building! Room 395 on Jan. 22\, 23\, 24\, 29\, 30 and 31 from 6-8:30 \nEven easier the application packet is available in the Pro Bono Office. If you will pick one up\, compete it\, return it to the office\, we will even mail it in for you. \nThis is one of best and most direct pro bono opportunities you can have while in Law School.  You will be appointed by a Family Court Judge to investigate\, advocate and monitor a case. Family Court judged depend on the words and actions of the guardians. Often they are the only people following the law and visiting the child. In addition for older children the GAL is their voice. \nDon’t hesitate to come by and talk about any issues or questions you may have.  If you miss this opportunity to volunteer it may not come around again until next Sept.
URL:https://uofsclawprobono.azurewebsites.net/event/guardian-ad-litem-training/
LOCATION:Room 395
CATEGORIES:Events,Richland County CASA
END:VEVENT
END:VCALENDAR