BEGIN:VCALENDAR
VERSION:2.0
PRODID:-//Pro Bono Program - ECPv5.16.4//NONSGML v1.0//EN
CALSCALE:GREGORIAN
METHOD:PUBLISH
X-WR-CALNAME:Pro Bono Program
X-ORIGINAL-URL:https://uofsclawprobono.azurewebsites.net
X-WR-CALDESC:Events for Pro Bono Program
BEGIN:VTIMEZONE
TZID:America/New_York
BEGIN:DAYLIGHT
TZOFFSETFROM:-0500
TZOFFSETTO:-0400
TZNAME:EDT
DTSTART:20180311T070000
END:DAYLIGHT
BEGIN:STANDARD
TZOFFSETFROM:-0400
TZOFFSETTO:-0500
TZNAME:EST
DTSTART:20181104T060000
END:STANDARD
END:VTIMEZONE
BEGIN:VEVENT
DTSTART;TZID=America/New_York:20181115T083000
DTEND;TZID=America/New_York:20181115T100000
DTSTAMP:20260421T205349
CREATED:20171110T173838Z
LAST-MODIFIED:20180730T150722Z
UID:652-1542270600-1542276000@uofsclawprobono.azurewebsites.net
SUMMARY:HELP Clinic
DESCRIPTION:H.E.L.P. Clinic-the Homeless Clinic\, a project of the Richland County Bar Association Pro Bono Committee is conducted from 8:30-10 am on the 1st and 3rd Thursday of each month at Transitions. Law students will conduct intake interviews and assist attorneys with cases. Contact the Pro Bono Program if you have questions or if you ready to volunteer use this online link http://www.signupgenius.com/go/4090a4babad2eabfe3-project \nA reminder will be sent to you a few days before the event
URL:https://uofsclawprobono.azurewebsites.net/event/help-clinic-9/
LOCATION:Transitions Homeless Center\, 2025 Main Street\, Columbia\, SC\, 29201
CATEGORIES:Events,H.E.L.P
END:VEVENT
END:VCALENDAR