BEGIN:VCALENDAR
VERSION:2.0
PRODID:-//Pro Bono Program - ECPv5.16.4//NONSGML v1.0//EN
CALSCALE:GREGORIAN
METHOD:PUBLISH
X-WR-CALNAME:Pro Bono Program
X-ORIGINAL-URL:https://uofsclawprobono.azurewebsites.net
X-WR-CALDESC:Events for Pro Bono Program
BEGIN:VTIMEZONE
TZID:America/New_York
BEGIN:DAYLIGHT
TZOFFSETFROM:-0500
TZOFFSETTO:-0400
TZNAME:EDT
DTSTART:20180311T070000
END:DAYLIGHT
BEGIN:STANDARD
TZOFFSETFROM:-0400
TZOFFSETTO:-0500
TZNAME:EST
DTSTART:20181104T060000
END:STANDARD
END:VTIMEZONE
BEGIN:VEVENT
DTSTART;VALUE=DATE:20180301
DTEND;VALUE=DATE:20180302
DTSTAMP:20260422T033856
CREATED:20180221T191619Z
LAST-MODIFIED:20180221T191619Z
UID:790-1519862400-1519948799@uofsclawprobono.azurewebsites.net
SUMMARY:Konduros Public Interest Fellowship Deadline
DESCRIPTION:
URL:https://uofsclawprobono.azurewebsites.net/event/konduros-public-interest-fellowship-deadline/
CATEGORIES:Deadlne
END:VEVENT
END:VCALENDAR