BEGIN:VCALENDAR
VERSION:2.0
PRODID:-//Pro Bono Program - ECPv5.16.4//NONSGML v1.0//EN
CALSCALE:GREGORIAN
METHOD:PUBLISH
X-WR-CALNAME:Pro Bono Program
X-ORIGINAL-URL:https://uofsclawprobono.azurewebsites.net
X-WR-CALDESC:Events for Pro Bono Program
BEGIN:VTIMEZONE
TZID:America/New_York
BEGIN:DAYLIGHT
TZOFFSETFROM:-0500
TZOFFSETTO:-0400
TZNAME:EDT
DTSTART:20190310T070000
END:DAYLIGHT
BEGIN:STANDARD
TZOFFSETFROM:-0400
TZOFFSETTO:-0500
TZNAME:EST
DTSTART:20191103T060000
END:STANDARD
END:VTIMEZONE
BEGIN:VEVENT
DTSTART;VALUE=DATE:20190301
DTEND;VALUE=DATE:20190302
DTSTAMP:20260422T001719
CREATED:20190214T135517Z
LAST-MODIFIED:20190214T135517Z
UID:1138-1551398400-1551484799@uofsclawprobono.azurewebsites.net
SUMMARY:Konduros Public Service Fellowship DEADLINE
DESCRIPTION:March 1st in the deadline to submit your application and personal statement to be eligible for a PAID summer public interest placement through the Konduros Public Service Fellowshipprogram \nDetails\, criteria and application online at: https://sc.edu/study/colleges_schools/law/internal/department/pro_bono/konduros/index.php
URL:https://uofsclawprobono.azurewebsites.net/event/konduros-public-service-fellowship-deadline-3/
CATEGORIES:Konduros Public Service Fellowship
END:VEVENT
END:VCALENDAR