BEGIN:VCALENDAR
VERSION:2.0
PRODID:-//Pro Bono Program - ECPv5.16.4//NONSGML v1.0//EN
CALSCALE:GREGORIAN
METHOD:PUBLISH
X-WR-CALNAME:Pro Bono Program
X-ORIGINAL-URL:https://uofsclawprobono.azurewebsites.net
X-WR-CALDESC:Events for Pro Bono Program
BEGIN:VTIMEZONE
TZID:America/New_York
BEGIN:DAYLIGHT
TZOFFSETFROM:-0500
TZOFFSETTO:-0400
TZNAME:EDT
DTSTART:20180311T070000
END:DAYLIGHT
BEGIN:STANDARD
TZOFFSETFROM:-0400
TZOFFSETTO:-0500
TZNAME:EST
DTSTART:20181104T060000
END:STANDARD
END:VTIMEZONE
BEGIN:VEVENT
DTSTART;TZID=America/New_York:20181023T120000
DTEND;TZID=America/New_York:20181023T133000
DTSTAMP:20260421T222153
CREATED:20181009T150848Z
LAST-MODIFIED:20181009T151051Z
UID:945-1540296000-1540301400@uofsclawprobono.azurewebsites.net
SUMMARY:Meet n' Greet
DESCRIPTION:It’s a Bake Sale with a side of pro bono conversation!  Come by the Courtyard between 12- 1:30 to buy a yummy snack and talk to Pro Bono Board and Alumni Advisory Council members about the value of pro bono engagement and how to take the next step!  Yup\, its sugar with a side of service \n!
URL:https://uofsclawprobono.azurewebsites.net/event/meet-n-greet/
LOCATION:Courtyard
CATEGORIES:Meet n' Sweet
END:VEVENT
END:VCALENDAR