BEGIN:VCALENDAR
VERSION:2.0
PRODID:-//Pro Bono Program - ECPv5.16.4//NONSGML v1.0//EN
CALSCALE:GREGORIAN
METHOD:PUBLISH
X-WR-CALNAME:Pro Bono Program
X-ORIGINAL-URL:https://uofsclawprobono.azurewebsites.net
X-WR-CALDESC:Events for Pro Bono Program
BEGIN:VTIMEZONE
TZID:America/New_York
BEGIN:DAYLIGHT
TZOFFSETFROM:-0500
TZOFFSETTO:-0400
TZNAME:EDT
DTSTART:20200308T070000
END:DAYLIGHT
BEGIN:STANDARD
TZOFFSETFROM:-0400
TZOFFSETTO:-0500
TZNAME:EST
DTSTART:20201101T060000
END:STANDARD
END:VTIMEZONE
BEGIN:VEVENT
DTSTART;TZID=America/New_York:20200924T130000
DTEND;TZID=America/New_York:20200924T140000
DTSTAMP:20260422T051910
CREATED:20200908T143400Z
LAST-MODIFIED:20200908T144340Z
UID:1800-1600952400-1600956000@uofsclawprobono.azurewebsites.net
SUMMARY:Power Lunch Hour
DESCRIPTION:  \nDrop in and learn about the Pro Bono Program\, share your experiences\, ask questions and get answers. In addition\, we will feature a short interview with an alumni with a unique pro bono point of view. \nSeptember 24 Guest: Major Scott Medyn\, US Air Force\, Washington\, DC \n  \n  \n  \n 
URL:https://uofsclawprobono.azurewebsites.net/event/power-lunch-hour-3/
CATEGORIES:Power Lunch Hour
END:VEVENT
END:VCALENDAR