BEGIN:VCALENDAR
VERSION:2.0
PRODID:-//Pro Bono Program - ECPv5.16.4//NONSGML v1.0//EN
CALSCALE:GREGORIAN
METHOD:PUBLISH
X-WR-CALNAME:Pro Bono Program
X-ORIGINAL-URL:https://uofsclawprobono.azurewebsites.net
X-WR-CALDESC:Events for Pro Bono Program
BEGIN:VTIMEZONE
TZID:America/New_York
BEGIN:DAYLIGHT
TZOFFSETFROM:-0500
TZOFFSETTO:-0400
TZNAME:EDT
DTSTART:20200308T070000
END:DAYLIGHT
BEGIN:STANDARD
TZOFFSETFROM:-0400
TZOFFSETTO:-0500
TZNAME:EST
DTSTART:20201101T060000
END:STANDARD
END:VTIMEZONE
BEGIN:VEVENT
DTSTART;TZID=America/New_York:20200114T173000
DTEND;TZID=America/New_York:20200114T193000
DTSTAMP:20260422T020104
CREATED:20191029T202643Z
LAST-MODIFIED:20191029T202643Z
UID:1410-1579023000-1579030200@uofsclawprobono.azurewebsites.net
SUMMARY:Richland County CASA/GAL Training Jan. 2020
DESCRIPTION:Good news! Richland County CASA will be presenting the training to become a volunteer guardian ad litem for abused and neglected children at the Law School in Jan. 2020 \nThe dates are Jan 14\, 15\, 16\, 21 \, 22 and 23   5:30-7:30 \nwhat do you have to do? \n\nDetermine that you have interest\nSubmit an online application at: https://www.rccasa.org\nAttend all trainings\nComplete a Pro Bono Program Enrollment form https://uofsclawprobono.azurewebsites.net/forms/volunteer-enrollment-form/\nAgree to record your hours at M.Y. Pro Bono! https://sc.edu/study/colleges_schools/law/internal/department/pro_bono/my_pro_bono.php\n\nHave questions or concerns? Contact the Pro Bono Director today!  We can help support you.
URL:https://uofsclawprobono.azurewebsites.net/event/richland-county-casa-gal-training-jan-2020/
CATEGORIES:Richland County CASA
END:VEVENT
END:VCALENDAR