BEGIN:VCALENDAR
VERSION:2.0
PRODID:-//Pro Bono Program - ECPv5.16.4//NONSGML v1.0//EN
CALSCALE:GREGORIAN
METHOD:PUBLISH
X-WR-CALNAME:Pro Bono Program
X-ORIGINAL-URL:https://uofsclawprobono.azurewebsites.net
X-WR-CALDESC:Events for Pro Bono Program
BEGIN:VTIMEZONE
TZID:America/New_York
BEGIN:DAYLIGHT
TZOFFSETFROM:-0500
TZOFFSETTO:-0400
TZNAME:EDT
DTSTART:20220313T070000
END:DAYLIGHT
BEGIN:STANDARD
TZOFFSETFROM:-0400
TZOFFSETTO:-0500
TZNAME:EST
DTSTART:20221106T060000
END:STANDARD
END:VTIMEZONE
BEGIN:VEVENT
DTSTART;TZID=America/New_York:20220125T123000
DTEND;TZID=America/New_York:20220125T133000
DTSTAMP:20260421T192933
CREATED:20211220T164444Z
LAST-MODIFIED:20211220T164444Z
UID:5364-1643113800-1643117400@uofsclawprobono.azurewebsites.net
SUMMARY:Summer Public Interest Job Meeting
DESCRIPTION:Know you would like to explore a public interest career opportunity this summer? Learn more about the options for getting paid to do this valuable work.
URL:https://uofsclawprobono.azurewebsites.net/event/summer-public-interest-job-meeting/
LOCATION:Room 136 Law School\, 1525 Senate Street\, Columbia\, 29208\, United States
CATEGORIES:Konduros Public Service Fellowship
END:VEVENT
END:VCALENDAR