BEGIN:VCALENDAR
VERSION:2.0
PRODID:-//Pro Bono Program - ECPv5.16.4//NONSGML v1.0//EN
CALSCALE:GREGORIAN
METHOD:PUBLISH
X-WR-CALNAME:Pro Bono Program
X-ORIGINAL-URL:https://uofsclawprobono.azurewebsites.net
X-WR-CALDESC:Events for Pro Bono Program
BEGIN:VTIMEZONE
TZID:America/New_York
BEGIN:DAYLIGHT
TZOFFSETFROM:-0500
TZOFFSETTO:-0400
TZNAME:EDT
DTSTART:20190310T070000
END:DAYLIGHT
BEGIN:STANDARD
TZOFFSETFROM:-0400
TZOFFSETTO:-0500
TZNAME:EST
DTSTART:20191103T060000
END:STANDARD
END:VTIMEZONE
BEGIN:VEVENT
DTSTART;TZID=America/New_York:20191125T170000
DTEND;TZID=America/New_York:20191125T200000
DTSTAMP:20260422T002848
CREATED:20191022T144948Z
LAST-MODIFIED:20191022T144948Z
UID:1388-1574701200-1574712000@uofsclawprobono.azurewebsites.net
SUMMARY:Thanksgiving Dinner! Family Shelter/St.Lawrence Place
DESCRIPTION:The SBA and Pro Bono Program join forces to provide a hot\, delicious\, homemade Thanksgiving Dinner for the residents of the Family Shelter and St. Lawrence Place.  Yes\, we cook the turkey\, the green beans\, stuffing and mac and cheese!  With hot gravy\, rolls and PIES it is a treat for all. \nand yes\, there are leftovers! \nwatch for sign up information
URL:https://uofsclawprobono.azurewebsites.net/event/thanksgiving-dinner-family-shelter-st-lawrence-place/
END:VEVENT
END:VCALENDAR