BEGIN:VCALENDAR
VERSION:2.0
PRODID:-//Pro Bono Program - ECPv5.16.4//NONSGML v1.0//EN
CALSCALE:GREGORIAN
METHOD:PUBLISH
X-WR-CALNAME:Pro Bono Program
X-ORIGINAL-URL:https://uofsclawprobono.azurewebsites.net
X-WR-CALDESC:Events for Pro Bono Program
BEGIN:VTIMEZONE
TZID:America/New_York
BEGIN:DAYLIGHT
TZOFFSETFROM:-0500
TZOFFSETTO:-0400
TZNAME:EDT
DTSTART:20200308T070000
END:DAYLIGHT
BEGIN:STANDARD
TZOFFSETFROM:-0400
TZOFFSETTO:-0500
TZNAME:EST
DTSTART:20201101T060000
END:STANDARD
END:VTIMEZONE
BEGIN:VEVENT
DTSTART;TZID=America/New_York:20201030T140000
DTEND;TZID=America/New_York:20201030T170000
DTSTAMP:20260422T015728
CREATED:20200917T151928Z
LAST-MODIFIED:20200917T151928Z
UID:1847-1604066400-1604077200@uofsclawprobono.azurewebsites.net
SUMMARY:Virtual Friday Blitz
DESCRIPTION:Calling all 2L’s and 3L’s! You say you want practical experience? It can’t get more real than participating in a Virtual Friday Blitz. This is a team effort\, matching law students and volunteer attorneys as they work through providing answers to questions posted by the public to the SC Bar forum\, www.SC.FreeLegalAnswers.org \nNot to worry\, it will all be explained but just know it is real and sometimes just plain entertaining.  Use the Sign Up Genius link and be ready to get creative
URL:https://uofsclawprobono.azurewebsites.net/event/virtual-friday-blitz-2/
LOCATION:Virtual
CATEGORIES:Friday Blitz
END:VEVENT
END:VCALENDAR