BEGIN:VCALENDAR
VERSION:2.0
PRODID:-//Pro Bono Program - ECPv5.16.4//NONSGML v1.0//EN
CALSCALE:GREGORIAN
METHOD:PUBLISH
X-WR-CALNAME:Pro Bono Program
X-ORIGINAL-URL:https://uofsclawprobono.azurewebsites.net
X-WR-CALDESC:Events for Pro Bono Program
BEGIN:VTIMEZONE
TZID:America/New_York
BEGIN:DAYLIGHT
TZOFFSETFROM:-0500
TZOFFSETTO:-0400
TZNAME:EDT
DTSTART:20210314T070000
END:DAYLIGHT
BEGIN:STANDARD
TZOFFSETFROM:-0400
TZOFFSETTO:-0500
TZNAME:EST
DTSTART:20211107T060000
END:STANDARD
END:VTIMEZONE
BEGIN:VEVENT
DTSTART;TZID=America/New_York:20210213T083000
DTEND;TZID=America/New_York:20210213T120000
DTSTAMP:20260422T033552
CREATED:20210114T200236Z
LAST-MODIFIED:20210114T200236Z
UID:1992-1613205000-1613217600@uofsclawprobono.azurewebsites.net
SUMMARY:VITA
DESCRIPTION:Certified volunteers can sign up here! https://www.signupgenius.com/go/20f0445a8a82ea1fc1-vita2 \n 
URL:https://uofsclawprobono.azurewebsites.net/event/vita-13/
LOCATION:Perrin Lobby
END:VEVENT
END:VCALENDAR