BEGIN:VCALENDAR
VERSION:2.0
PRODID:-//Pro Bono Program - ECPv5.16.4//NONSGML v1.0//EN
CALSCALE:GREGORIAN
METHOD:PUBLISH
X-WR-CALNAME:Pro Bono Program
X-ORIGINAL-URL:https://uofsclawprobono.azurewebsites.net
X-WR-CALDESC:Events for Pro Bono Program
BEGIN:VTIMEZONE
TZID:America/New_York
BEGIN:DAYLIGHT
TZOFFSETFROM:-0500
TZOFFSETTO:-0400
TZNAME:EDT
DTSTART:20200308T070000
END:DAYLIGHT
BEGIN:STANDARD
TZOFFSETFROM:-0400
TZOFFSETTO:-0500
TZNAME:EST
DTSTART:20201101T060000
END:STANDARD
END:VTIMEZONE
BEGIN:VEVENT
DTSTART;TZID=America/New_York:20200201T080000
DTEND;TZID=America/New_York:20200201T153000
DTSTAMP:20260421T223710
CREATED:20191218T142146Z
LAST-MODIFIED:20191218T142146Z
UID:1503-1580544000-1580571000@uofsclawprobono.azurewebsites.net
SUMMARY:VITA- Super Saturday
DESCRIPTION:In conjunction with Cooperative Ministries\, the SC Bar Young Lawyers Division and the Midlands VITA Coalition\, the USC School of Law Pro Bono Program VITA team will conduct intake interviews for a day long tax preparation event. To be part of this event\, volunteers must have completed several IRS certifications. For more information contact the Pro Bono Program today!  We can easily send you the online certification material
URL:https://uofsclawprobono.azurewebsites.net/event/vita-super-saturday/
LOCATION:Cooperative Ministries\, 3821 W Beltline Blvd\, Columbia\, SC\, \, SC 29204\, United States
CATEGORIES:VITA
END:VEVENT
END:VCALENDAR